BEGIN:VCALENDAR
VERSION:2.0
PRODID:Events Booking
BEGIN:VEVENT
UID:69ece06e9a984
SUMMARY:Liga Arku Lagunak Indoor
DESCRIPTION:Liga social del club para todas las personas socias de Arku Lag
 unak (deporte recreativo\, federado y escolar).
DTSTART:20181201T090000Z
DTEND:20181201T113000Z
DTSTAMP:20260425T154030Z
ORGANIZER;CN=Arku Lagunak Inscripciones:MAILTO:info@arkulagunak.com
END:VEVENT
END:VCALENDAR