BEGIN:VCALENDAR
VERSION:2.0
PRODID:Events Booking
BEGIN:VEVENT
UID:69e73010c7f20
SUMMARY:4ª Liga Escolar Alavesa Aire Libre 25/26
DESCRIPTION:Arku Lagunak organizamos la 4ª Jornada de Liga Escolar Alavesa
  Aire Libre.
 &nbsp\;
 Arku Lagunak Arabako Kirol-Eskola Aire Zabala -Li
 ga\,4 antolatzen dugu.
 &nbsp\;&nbsp\; +Info&nbsp\;https://t.me/ArabaIndo
 or
 &nbsp\;Puedes&nbsp\;seguir la competición en tiempo real desde tu m
 óvil\, tablet u ordenador desde:&nbsp\;https://arkulagunak.com/Live
 Rec
 omendamo usar Telegram para poder seguir las últimas novedades de este ev
 ento y futuros (¡es gratis!)
LOCATION:Pedro de Asua Kalea\, 2\, 01008 Vitoria-Gasteiz\, Araba\, España
DTSTART:20260425T073000Z
DTEND:20260425T113000Z
DTSTAMP:20260416T102556Z
ORGANIZER;CN=Arku Lagunak Inscripciones:MAILTO:info@arkulagunak.com
GEO:42.850951;-2.688341
X-APPLE-STRUCTURED-LOCATION;VALUE=URI;X-ADDRESS=Pedro de Asua Kalea\, 2\, 0
 1008 Vitoria-Gasteiz\, Araba\, España;X-APPLE-RADIUS=72;X-TITLE=Ins. Fed.
  Alavesa (UNED):42.850951;-2.688341
END:VEVENT
END:VCALENDAR