BEGIN:VCALENDAR
VERSION:2.0
PRODID:Events Booking
BEGIN:VEVENT
UID:69e72fa798d2f
SUMMARY:4ª Liga Alavesa Aire Libre 25/26
DESCRIPTION:Arku Lagunak organizamos la 4ª Jornada de Liga Alavesa Aire Li
 bre.
 &nbsp\;
 Arku Lagunak Arabako Aire Zabala -Liga antolatzen dugu.

  &nbsp\;&nbsp\; +Info&nbsp\;https://t.me/ArabaIndoor
 &nbsp\;Puedes&nbsp\
 ;seguir la competición en tiempo real desde tu móvil\, tablet u ordenado
 r desde:&nbsp\;https://arkulagunak.com/Live
 Recomendamo usar Telegram pa
 ra poder seguir las últimas novedades de este evento y futuros (¡es grat
 is!)
 Cierre de inscripción en: {countdown date=22/04/2026 20:00:00 widt
 h=300 style=flip}
LOCATION:Pedro de Asua Kalea\, 2\, 01008 Vitoria-Gasteiz\, Araba\, España
DTSTART:20260425T130000Z
DTEND:20260425T163000Z
DTSTAMP:20260416T102556Z
ORGANIZER;CN=Arku Lagunak Inscripciones:MAILTO:info@arkulagunak.com
GEO:42.850951;-2.688341
X-APPLE-STRUCTURED-LOCATION;VALUE=URI;X-ADDRESS=Pedro de Asua Kalea\, 2\, 0
 1008 Vitoria-Gasteiz\, Araba\, España;X-APPLE-RADIUS=72;X-TITLE=Ins. Fed.
  Alavesa (UNED):42.850951;-2.688341
END:VEVENT
END:VCALENDAR